BEGIN:VCALENDAR
VERSION:2.0
PRODID:icalendar-ruby
CALSCALE:GREGORIAN
BEGIN:VEVENT
DTSTAMP:20260419T144317Z
UID:0112f920-acdc-4960-892e-177ae3d70277
DTSTART;VALUE=DATE:20250326
DESCRIPTION:Property ID# 589119\, Locatoin: 8 Kent Terrace\, Wellington\, T
 ime: 12:00PM
SUMMARY:Auction for 
END:VEVENT
END:VCALENDAR
