BEGIN:VCALENDAR
VERSION:2.0
PRODID:icalendar-ruby
CALSCALE:GREGORIAN
BEGIN:VEVENT
DTSTAMP:20260419T144615Z
UID:5ff019b3-7b57-48d3-961e-5fab6eddd9c9
DTSTART;VALUE=DATE:20260220
DESCRIPTION:Property ID# 602510\, Locatoin: 8 Kent Terrace\, Wellington\, T
 ime: 12:00PM
SUMMARY:Auction for 
END:VEVENT
END:VCALENDAR
