BEGIN:VCALENDAR
VERSION:2.0
PRODID:icalendar-ruby
CALSCALE:GREGORIAN
BEGIN:VEVENT
DTSTAMP:20260425T121528Z
UID:c7099802-3212-4b85-b1bd-ddb4d41e8104
DTSTART;VALUE=DATE:20260326
DESCRIPTION:Property ID# 604718\, Locatoin: 8 Kent Terrace\, Wellington\, T
 ime: 12:00PM
SUMMARY:Auction for 
END:VEVENT
END:VCALENDAR
