BEGIN:VCALENDAR
VERSION:2.0
PRODID:icalendar-ruby
CALSCALE:GREGORIAN
BEGIN:VEVENT
DTSTAMP:20260419T144459Z
UID:6c2f1424-003c-411c-a239-15acaa04fc76
DTSTART;VALUE=DATE:20260331
DESCRIPTION:Property ID# 604817\, Locatoin: 8 Kent Terrace\, Wellington\, T
 ime: 12:00PM
SUMMARY:Auction for 
END:VEVENT
END:VCALENDAR
