BEGIN:VCALENDAR
VERSION:2.0
PRODID:icalendar-ruby
CALSCALE:GREGORIAN
BEGIN:VEVENT
DTSTAMP:20260419T144651Z
UID:39c8f505-2c76-4937-9efa-98fa63e783a1
DTSTART;TZID=Pacific/Auckland:20260419T133000
DTEND;TZID=Pacific/Auckland:20260419T140000
DESCRIPTION:Property ID# 599925
SUMMARY:Openhome for 23 Laura Avenue
END:VEVENT
END:VCALENDAR
